BEGIN:VCALENDAR
VERSION:2.0
PRODID:-//Criativa Turismo - ECPv6.15.20//NONSGML v1.0//EN
CALSCALE:GREGORIAN
METHOD:PUBLISH
X-ORIGINAL-URL:https://www.criativaturismo.com
X-WR-CALDESC:Eventos para Criativa Turismo
REFRESH-INTERVAL;VALUE=DURATION:PT1H
X-Robots-Tag:noindex
X-PUBLISHED-TTL:PT1H
BEGIN:VTIMEZONE
TZID:America/Sao_Paulo
BEGIN:STANDARD
TZOFFSETFROM:-0300
TZOFFSETTO:-0300
TZNAME:-03
DTSTART:20240101T000000
END:STANDARD
END:VTIMEZONE
BEGIN:VEVENT
DTSTART;VALUE=DATE:20250622
DTEND;VALUE=DATE:20250623
DTSTAMP:20260424T082345
CREATED:20230918T235232Z
LAST-MODIFIED:20250520T121314Z
UID:3491-1750550400-1750636799@www.criativaturismo.com
SUMMARY:Pedra do Altar
DESCRIPTION:Mais informações\, clica aqui!
URL:https://www.criativaturismo.com/evento/pedra-do-altar-pb/
LOCATION:Paraíba
END:VEVENT
END:VCALENDAR