BEGIN:VCALENDAR
VERSION:2.0
PRODID:-//Criativa Turismo - ECPv6.15.20//NONSGML v1.0//EN
CALSCALE:GREGORIAN
METHOD:PUBLISH
X-ORIGINAL-URL:https://www.criativaturismo.com
X-WR-CALDESC:Eventos para Criativa Turismo
REFRESH-INTERVAL;VALUE=DURATION:PT1H
X-Robots-Tag:noindex
X-PUBLISHED-TTL:PT1H
BEGIN:VTIMEZONE
TZID:America/Sao_Paulo
BEGIN:STANDARD
TZOFFSETFROM:-0300
TZOFFSETTO:-0300
TZNAME:-03
DTSTART:20250101T000000
END:STANDARD
END:VTIMEZONE
BEGIN:VEVENT
DTSTART;VALUE=DATE:20260301
DTEND;VALUE=DATE:20260302
DTSTAMP:20260423T191436
CREATED:20230919T012128Z
LAST-MODIFIED:20260222T191641Z
UID:3565-1772323200-1772409599@www.criativaturismo.com
SUMMARY:Serraria + Bananeiras com Fazenda Angicos
DESCRIPTION:Mais informações\, clica aqui!
URL:https://www.criativaturismo.com/evento/serraria-e-bananeiras/
LOCATION:Paraíba
END:VEVENT
END:VCALENDAR