BEGIN:VCALENDAR
VERSION:2.0
PRODID:-//Criativa Turismo - ECPv6.15.20//NONSGML v1.0//EN
CALSCALE:GREGORIAN
METHOD:PUBLISH
X-WR-CALNAME:Criativa Turismo
X-ORIGINAL-URL:https://www.criativaturismo.com
X-WR-CALDESC:Eventos para Criativa Turismo
REFRESH-INTERVAL;VALUE=DURATION:PT1H
X-Robots-Tag:noindex
X-PUBLISHED-TTL:PT1H
BEGIN:VTIMEZONE
TZID:America/Sao_Paulo
BEGIN:STANDARD
TZOFFSETFROM:-0300
TZOFFSETTO:-0300
TZNAME:-03
DTSTART:20250101T000000
END:STANDARD
END:VTIMEZONE
BEGIN:VEVENT
DTSTART;VALUE=DATE:20260412
DTEND;VALUE=DATE:20260413
DTSTAMP:20260423T134150
CREATED:20231023T150616Z
LAST-MODIFIED:20260323T211705Z
UID:3637-1775952000-1776038399@www.criativaturismo.com
SUMMARY:Barra de Mamanguape - Encanto das Aldeias
DESCRIPTION:Mais informações\, clica aqui!
URL:https://www.criativaturismo.com/evento/encanto-das-aldeias/
LOCATION:Paraíba
END:VEVENT
END:VCALENDAR