BEGIN:VCALENDAR
VERSION:2.0
PRODID:-//Criativa Turismo - ECPv6.15.20//NONSGML v1.0//EN
CALSCALE:GREGORIAN
METHOD:PUBLISH
X-ORIGINAL-URL:https://www.criativaturismo.com
X-WR-CALDESC:Eventos para Criativa Turismo
REFRESH-INTERVAL;VALUE=DURATION:PT1H
X-Robots-Tag:noindex
X-PUBLISHED-TTL:PT1H
BEGIN:VTIMEZONE
TZID:America/Sao_Paulo
BEGIN:STANDARD
TZOFFSETFROM:-0300
TZOFFSETTO:-0300
TZNAME:-03
DTSTART:20250101T000000
END:STANDARD
END:VTIMEZONE
BEGIN:VEVENT
DTSTART;VALUE=DATE:20260513
DTEND;VALUE=DATE:20260525
DTSTAMP:20260423T170401
CREATED:20250904T191409Z
LAST-MODIFIED:20260210T134429Z
UID:4593-1778630400-1779667199@www.criativaturismo.com
SUMMARY:Norte de Portugal Espetacular e Vigo (Espanha)
DESCRIPTION:Mais informações CLICA AQUI
URL:https://www.criativaturismo.com/evento/caminhos-ibericos-do-porto-a-vigo-rota-de-experiencias/
END:VEVENT
END:VCALENDAR