BEGIN:VCALENDAR
VERSION:2.0
PRODID:-//Criativa Turismo - ECPv6.15.20//NONSGML v1.0//EN
CALSCALE:GREGORIAN
METHOD:PUBLISH
X-ORIGINAL-URL:https://www.criativaturismo.com
X-WR-CALDESC:Eventos para Criativa Turismo
REFRESH-INTERVAL;VALUE=DURATION:PT1H
X-Robots-Tag:noindex
X-PUBLISHED-TTL:PT1H
BEGIN:VTIMEZONE
TZID:America/Sao_Paulo
BEGIN:STANDARD
TZOFFSETFROM:-0300
TZOFFSETTO:-0300
TZNAME:-03
DTSTART:20250101T000000
END:STANDARD
END:VTIMEZONE
BEGIN:VEVENT
DTSTART;VALUE=DATE:20260613
DTEND;VALUE=DATE:20260620
DTSTAMP:20260423T182716
CREATED:20230919T004702Z
LAST-MODIFIED:20250715T153403Z
UID:3546-1781308800-1781913599@www.criativaturismo.com
SUMMARY:Chapada das Mesas
DESCRIPTION:Mais informações\, clica aqui!
URL:https://www.criativaturismo.com/evento/chapada-das-mesas/
LOCATION:Maranhão
END:VEVENT
BEGIN:VEVENT
DTSTART;VALUE=DATE:20260613
DTEND;VALUE=DATE:20260620
DTSTAMP:20260423T182716
CREATED:20230919T004911Z
LAST-MODIFIED:20251002T214153Z
UID:3549-1781308800-1781913599@www.criativaturismo.com
SUMMARY:Jalapão
DESCRIPTION:Mais informações\, clica aqui!
URL:https://www.criativaturismo.com/evento/jalapao/
LOCATION:Tocantins
END:VEVENT
END:VCALENDAR