BEGIN:VCALENDAR
VERSION:2.0
PRODID:-//Criativa Turismo - ECPv6.15.20//NONSGML v1.0//EN
CALSCALE:GREGORIAN
METHOD:PUBLISH
X-ORIGINAL-URL:https://www.criativaturismo.com
X-WR-CALDESC:Eventos para Criativa Turismo
REFRESH-INTERVAL;VALUE=DURATION:PT1H
X-Robots-Tag:noindex
X-PUBLISHED-TTL:PT1H
BEGIN:VTIMEZONE
TZID:America/Sao_Paulo
BEGIN:STANDARD
TZOFFSETFROM:-0300
TZOFFSETTO:-0300
TZNAME:-03
DTSTART:20250101T000000
END:STANDARD
END:VTIMEZONE
BEGIN:VEVENT
DTSTART;VALUE=DATE:20260622
DTEND;VALUE=DATE:20260625
DTSTAMP:20260423T200256
CREATED:20260408T202231Z
LAST-MODIFIED:20260408T202231Z
UID:4842-1782086400-1782345599@www.criativaturismo.com
SUMMARY:São João Criativa na Pousada Potiguara
DESCRIPTION:Mais Informações CLICA AQUI
URL:https://www.criativaturismo.com/evento/sao-joao-criativa-na-pousada-potiguara/
LOCATION:Paraíba
ATTACH;FMTTYPE=image/png:https://www.criativaturismo.com/wp-content/uploads/2026/04/sao-joao-pousada-potiguara-2026_criativa-turismo.png
END:VEVENT
BEGIN:VEVENT
DTSTART;VALUE=DATE:20260624
DTEND;VALUE=DATE:20260701
DTSTAMP:20260423T200256
CREATED:20230919T004544Z
LAST-MODIFIED:20251002T202945Z
UID:3544-1782259200-1782863999@www.criativaturismo.com
SUMMARY:Circuito das Emoções – Jeri / Delta / Lençóis
DESCRIPTION:Mais informações\, clica aqui!
URL:https://www.criativaturismo.com/evento/circuito-das-emocoes-jeri-delta-lencois-2/
LOCATION:Ceará
END:VEVENT
BEGIN:VEVENT
DTSTART;VALUE=DATE:20260708
DTEND;VALUE=DATE:20260716
DTSTAMP:20260423T200256
CREATED:20230919T010625Z
LAST-MODIFIED:20260212T130845Z
UID:3559-1783468800-1784159999@www.criativaturismo.com
SUMMARY:Peru - Machu Picchu e Lago Titicaca
DESCRIPTION:Mais informações\, clica aqui!
URL:https://www.criativaturismo.com/evento/machupicchu/
LOCATION:Internacional
END:VEVENT
BEGIN:VEVENT
DTSTART;VALUE=DATE:20260826
DTEND;VALUE=DATE:20260903
DTSTAMP:20260423T200256
CREATED:20231023T153304Z
LAST-MODIFIED:20260109T151302Z
UID:3658-1787702400-1788393599@www.criativaturismo.com
SUMMARY:Vivências Amazônicas - Manaus + Pres. Figueiredo
DESCRIPTION:Mais informações\, clica aqui!
URL:https://www.criativaturismo.com/evento/amazonia/
LOCATION:Amazonas
END:VEVENT
BEGIN:VEVENT
DTSTART;VALUE=DATE:20260916
DTEND;VALUE=DATE:20260923
DTSTAMP:20260423T200256
CREATED:20231023T152547Z
LAST-MODIFIED:20260222T200054Z
UID:3650-1789516800-1790121599@www.criativaturismo.com
SUMMARY:Minas e Seus Tesouros + Experiências no Caraça
DESCRIPTION:Mais informações\, clica aqui!
URL:https://www.criativaturismo.com/evento/minas-e-seus-tesouros-caraca/
LOCATION:Minas Gerais
END:VEVENT
BEGIN:VEVENT
DTSTART;VALUE=DATE:20260930
DTEND;VALUE=DATE:20261008
DTSTAMP:20260423T200256
CREATED:20260303T162705Z
LAST-MODIFIED:20260303T162839Z
UID:4808-1790726400-1791417599@www.criativaturismo.com
SUMMARY:Montanhas capixabas e Vitória (ES): Um destino de natureza\, cultura e sabores
DESCRIPTION:Mais informações
URL:https://www.criativaturismo.com/evento/montanhas-capixabas-e-vitoria-es-um-destino-de-natureza-cultura-e-sabores/
END:VEVENT
BEGIN:VEVENT
DTSTART;TZID=America/Sao_Paulo:20261022T000000
DTEND;TZID=America/Sao_Paulo:20261103T000000
DTSTAMP:20260423T200256
CREATED:20251230T214857Z
LAST-MODIFIED:20260222T195742Z
UID:4269-1792627200-1793664000@www.criativaturismo.com
SUMMARY:Marrocos com Lisboa - 2026
DESCRIPTION:Mais informações
URL:https://www.criativaturismo.com/evento/marrocos-com-lisboa-2026/
END:VEVENT
BEGIN:VEVENT
DTSTART;VALUE=DATE:20261104
DTEND;VALUE=DATE:20261118
DTSTAMP:20260423T200256
CREATED:20251119T190538Z
LAST-MODIFIED:20251121T210402Z
UID:4683-1793750400-1794959999@www.criativaturismo.com
SUMMARY:Índia e Nepal – Um mergulho no Tempo\, na Cultura e nas Emoções
DESCRIPTION:Mais informações CLICA AQUI
URL:https://www.criativaturismo.com/evento/india-e-nepal-um-mergulho-no-tempo-na-cultura-e-nas-emocoes/
END:VEVENT
BEGIN:VEVENT
DTSTART;VALUE=DATE:20270913
DTEND;VALUE=DATE:20270923
DTSTAMP:20260423T200256
CREATED:20260222T172158Z
LAST-MODIFIED:20260420T015936Z
UID:4780-1820793600-1821657599@www.criativaturismo.com
SUMMARY:Turquia e suas lendas
DESCRIPTION:Mais informações CLIQUE AQUI
URL:https://www.criativaturismo.com/evento/turquia-e-suas-lendas/
LOCATION:Istambul / Capadócia / Pamukkale / Kusadasi ou Ismir\, Turkey
END:VEVENT
END:VCALENDAR