BEGIN:VCALENDAR
VERSION:2.0
PRODID:-//Criativa Turismo - ECPv6.15.20//NONSGML v1.0//EN
CALSCALE:GREGORIAN
METHOD:PUBLISH
X-ORIGINAL-URL:https://www.criativaturismo.com
X-WR-CALDESC:Eventos para Criativa Turismo
REFRESH-INTERVAL;VALUE=DURATION:PT1H
X-Robots-Tag:noindex
X-PUBLISHED-TTL:PT1H
BEGIN:VTIMEZONE
TZID:America/Sao_Paulo
BEGIN:STANDARD
TZOFFSETFROM:-0300
TZOFFSETTO:-0300
TZNAME:-03
DTSTART:20230101T000000
END:STANDARD
END:VTIMEZONE
BEGIN:VEVENT
DTSTART;VALUE=DATE:20240719
DTEND;VALUE=DATE:20240722
DTSTAMP:20260423T170712
CREATED:20240311T161350Z
LAST-MODIFIED:20240311T161552Z
UID:3835-1721347200-1721606399@www.criativaturismo.com
SUMMARY:Garanhuns: Festival de Inverno 2024
DESCRIPTION:Mais informações\, clica aqui!
URL:https://www.criativaturismo.com/evento/fig2024/
LOCATION:Pernambuco
END:VEVENT
BEGIN:VEVENT
DTSTART;VALUE=DATE:20240622
DTEND;VALUE=DATE:20240623
DTSTAMP:20260423T170712
CREATED:20240525T132302Z
LAST-MODIFIED:20240525T132302Z
UID:3919-1719014400-1719100799@www.criativaturismo.com
SUMMARY:Bananeiras: São João 2024
DESCRIPTION:Mais informações\, clica aqui!
URL:https://www.criativaturismo.com/evento/bananeiras-sao-joao-2024/
LOCATION:Paraíba
END:VEVENT
BEGIN:VEVENT
DTSTART;VALUE=DATE:20240316
DTEND;VALUE=DATE:20240317
DTSTAMP:20260423T170712
CREATED:20240219T144510Z
LAST-MODIFIED:20240221T015849Z
UID:3786-1710547200-1710633599@www.criativaturismo.com
SUMMARY:Cachoeiras de Bonito
DESCRIPTION:Mais informações\, clica aqui!
URL:https://www.criativaturismo.com/evento/cachoeiras-de-bonito/
LOCATION:Pernambuco
END:VEVENT
END:VCALENDAR