BEGIN:VCALENDAR
VERSION:2.0
PRODID:-//Criativa Turismo - ECPv6.15.20//NONSGML v1.0//EN
CALSCALE:GREGORIAN
METHOD:PUBLISH
X-WR-CALNAME:Criativa Turismo
X-ORIGINAL-URL:https://www.criativaturismo.com
X-WR-CALDESC:Eventos para Criativa Turismo
REFRESH-INTERVAL;VALUE=DURATION:PT1H
X-Robots-Tag:noindex
X-PUBLISHED-TTL:PT1H
BEGIN:VTIMEZONE
TZID:America/Sao_Paulo
BEGIN:STANDARD
TZOFFSETFROM:-0300
TZOFFSETTO:-0300
TZNAME:-03
DTSTART:20250101T000000
END:STANDARD
END:VTIMEZONE
BEGIN:VEVENT
DTSTART;VALUE=DATE:20260301
DTEND;VALUE=DATE:20260302
DTSTAMP:20260423T174412
CREATED:20230919T012128Z
LAST-MODIFIED:20260222T191641Z
UID:3565-1772323200-1772409599@www.criativaturismo.com
SUMMARY:Serraria + Bananeiras com Fazenda Angicos
DESCRIPTION:Mais informações\, clica aqui!
URL:https://www.criativaturismo.com/evento/serraria-e-bananeiras/
LOCATION:Paraíba
END:VEVENT
BEGIN:VEVENT
DTSTART;VALUE=DATE:20260308
DTEND;VALUE=DATE:20260309
DTSTAMP:20260423T174412
CREATED:20240309T154942Z
LAST-MODIFIED:20260222T192425Z
UID:3831-1772928000-1773014399@www.criativaturismo.com
SUMMARY:Dona Inês + Caminhos do Café/PB
DESCRIPTION:Mais informações\, clica aqui!
URL:https://www.criativaturismo.com/evento/dona-ines-e-quilombo-cruz-da-menina/
LOCATION:Paraíba
END:VEVENT
BEGIN:VEVENT
DTSTART;VALUE=DATE:20260315
DTEND;VALUE=DATE:20260316
DTSTAMP:20260423T174412
CREATED:20231018T040028Z
LAST-MODIFIED:20260222T193029Z
UID:3629-1773532800-1773619199@www.criativaturismo.com
SUMMARY:Areia e Rota das Flores
DESCRIPTION:Mais informações\, clica aqui!
URL:https://www.criativaturismo.com/evento/areia-rota-historica-2/
LOCATION:Paraíba
END:VEVENT
BEGIN:VEVENT
DTSTART;VALUE=DATE:20260321
DTEND;VALUE=DATE:20260322
DTSTAMP:20260423T174412
CREATED:20230919T002939Z
LAST-MODIFIED:20260222T193308Z
UID:3526-1774051200-1774137599@www.criativaturismo.com
SUMMARY:Caminhos Ancestrais da Cultura Indígena Potiguara
DESCRIPTION:Mais informações\, clica aqui!
URL:https://www.criativaturismo.com/evento/vivencia-indigena-e-rio-do-gozo/
LOCATION:Paraíba
END:VEVENT
BEGIN:VEVENT
DTSTART;VALUE=DATE:20260328
DTEND;VALUE=DATE:20260329
DTSTAMP:20260423T174412
CREATED:20231018T035733Z
LAST-MODIFIED:20260222T193822Z
UID:3626-1774656000-1774742399@www.criativaturismo.com
SUMMARY:Recife e suas pontes em Catamarã + Castelo de Brennand
DESCRIPTION:Mais informações\, clica aqui!
URL:https://www.criativaturismo.com/evento/recife-e-brennand/
LOCATION:Pernambuco
END:VEVENT
BEGIN:VEVENT
DTSTART;VALUE=DATE:20260328
DTEND;VALUE=DATE:20260329
DTSTAMP:20260423T174412
CREATED:20250430T000213Z
LAST-MODIFIED:20260227T124142Z
UID:4416-1774656000-1774742399@www.criativaturismo.com
SUMMARY:Turismo Rural / Engenho Cachoeira – Day Use
DESCRIPTION:Mais informações CLICA AQUI
URL:https://www.criativaturismo.com/evento/turismo-rural-engenho-cachoeira-day-use/
END:VEVENT
BEGIN:VEVENT
DTSTART;VALUE=DATE:20260328
DTEND;VALUE=DATE:20260330
DTSTAMP:20260423T174412
CREATED:20260121T143046Z
LAST-MODIFIED:20260222T194426Z
UID:4741-1774656000-1774828799@www.criativaturismo.com
SUMMARY:Rota das 5 tradições - PB
DESCRIPTION:Mais informações Clica Aqui
URL:https://www.criativaturismo.com/evento/rota-das-5-tradicoes-pb/
LOCATION:Paraíba
END:VEVENT
BEGIN:VEVENT
DTSTART;VALUE=DATE:20260329
DTEND;VALUE=DATE:20260330
DTSTAMP:20260423T174412
CREATED:20230919T001651Z
LAST-MODIFIED:20260222T194038Z
UID:3510-1774742400-1774828799@www.criativaturismo.com
SUMMARY:Pedra da Boca
DESCRIPTION:Mais informações\, clica aqui!
URL:https://www.criativaturismo.com/evento/pedra-da-boca/
LOCATION:Paraíba
END:VEVENT
END:VCALENDAR