BEGIN:VCALENDAR
VERSION:2.0
PRODID:-//Criativa Turismo - ECPv6.15.20//NONSGML v1.0//EN
CALSCALE:GREGORIAN
METHOD:PUBLISH
X-WR-CALNAME:Criativa Turismo
X-ORIGINAL-URL:https://www.criativaturismo.com
X-WR-CALDESC:Eventos para Criativa Turismo
REFRESH-INTERVAL;VALUE=DURATION:PT1H
X-Robots-Tag:noindex
X-PUBLISHED-TTL:PT1H
BEGIN:VTIMEZONE
TZID:America/Sao_Paulo
BEGIN:STANDARD
TZOFFSETFROM:-0300
TZOFFSETTO:-0300
TZNAME:-03
DTSTART:20250101T000000
END:STANDARD
END:VTIMEZONE
BEGIN:VEVENT
DTSTART;VALUE=DATE:20260826
DTEND;VALUE=DATE:20260903
DTSTAMP:20260423T212517
CREATED:20231023T153304Z
LAST-MODIFIED:20260109T151302Z
UID:3658-1787702400-1788393599@www.criativaturismo.com
SUMMARY:Vivências Amazônicas - Manaus + Pres. Figueiredo
DESCRIPTION:Mais informações\, clica aqui!
URL:https://www.criativaturismo.com/evento/amazonia/
LOCATION:Amazonas
END:VEVENT
BEGIN:VEVENT
DTSTART;VALUE=DATE:20260916
DTEND;VALUE=DATE:20260923
DTSTAMP:20260423T212517
CREATED:20231023T152547Z
LAST-MODIFIED:20260222T200054Z
UID:3650-1789516800-1790121599@www.criativaturismo.com
SUMMARY:Minas e Seus Tesouros + Experiências no Caraça
DESCRIPTION:Mais informações\, clica aqui!
URL:https://www.criativaturismo.com/evento/minas-e-seus-tesouros-caraca/
LOCATION:Minas Gerais
END:VEVENT
BEGIN:VEVENT
DTSTART;VALUE=DATE:20260930
DTEND;VALUE=DATE:20261008
DTSTAMP:20260423T212517
CREATED:20260303T162705Z
LAST-MODIFIED:20260303T162839Z
UID:4808-1790726400-1791417599@www.criativaturismo.com
SUMMARY:Montanhas capixabas e Vitória (ES): Um destino de natureza\, cultura e sabores
DESCRIPTION:Mais informações
URL:https://www.criativaturismo.com/evento/montanhas-capixabas-e-vitoria-es-um-destino-de-natureza-cultura-e-sabores/
END:VEVENT
END:VCALENDAR