BEGIN:VCALENDAR
VERSION:2.0
PRODID:-//Criativa Turismo - ECPv6.15.20//NONSGML v1.0//EN
CALSCALE:GREGORIAN
METHOD:PUBLISH
X-WR-CALNAME:Criativa Turismo
X-ORIGINAL-URL:https://www.criativaturismo.com
X-WR-CALDESC:Eventos para Criativa Turismo
REFRESH-INTERVAL;VALUE=DURATION:PT1H
X-Robots-Tag:noindex
X-PUBLISHED-TTL:PT1H
BEGIN:VTIMEZONE
TZID:America/Sao_Paulo
BEGIN:STANDARD
TZOFFSETFROM:-0300
TZOFFSETTO:-0300
TZNAME:-03
DTSTART:20250101T000000
END:STANDARD
END:VTIMEZONE
BEGIN:VEVENT
DTSTART;VALUE=DATE:20260425
DTEND;VALUE=DATE:20260426
DTSTAMP:20260423T121212
CREATED:20240411T020551Z
LAST-MODIFIED:20260420T021406Z
UID:3885-1777075200-1777161599@www.criativaturismo.com
SUMMARY:Natuba: vivência com as uvas
DESCRIPTION:Mais informações\, clica aqui!
URL:https://www.criativaturismo.com/evento/natuba/
LOCATION:Paraíba
END:VEVENT
BEGIN:VEVENT
DTSTART;VALUE=DATE:20260426
DTEND;VALUE=DATE:20260427
DTSTAMP:20260423T121212
CREATED:20250313T220105Z
LAST-MODIFIED:20260323T213615Z
UID:4299-1777161600-1777247999@www.criativaturismo.com
SUMMARY:Olinda + Marco Zero e Centro Histórico de Recife
DESCRIPTION:Mais informações\, clica aqui!
URL:https://www.criativaturismo.com/evento/olinda-e-seus-encantos-artes-e-ceramicas-de-brennand/
LOCATION:Pernambuco
END:VEVENT
BEGIN:VEVENT
DTSTART;VALUE=DATE:20260428
DTEND;VALUE=DATE:20260503
DTSTAMP:20260423T121212
CREATED:20250321T205449Z
LAST-MODIFIED:20260203T162453Z
UID:4336-1777334400-1777766399@www.criativaturismo.com
SUMMARY:Foz do Iguaçu
DESCRIPTION:Mais Informações CLICA AQUI
URL:https://www.criativaturismo.com/evento/foz-do-iguacu/
LOCATION:Foz do Iguaçu\, Brazil
ATTACH;FMTTYPE=image/jpeg:https://www.criativaturismo.com/wp-content/uploads/2025/03/Foz-do-Iguacu-1.jpg
END:VEVENT
END:VCALENDAR